BEGIN:VCALENDAR
PRODID:-//www.eventfinda.co.nz//NONSGML Eventfinder//EN
VERSION:2.0
BEGIN:VEVENT
DESCRIPTION:Presented by the Pop-up Globe Northumberland's Company.\n \n“
 I had rather hear my dog bark at a crow\, than a man swear he loves me.”
 \n\nThe Pop-up Globe Northumberland's Company presents Shakespeare’s hil
 arious ...\n\nMore: https://popupglobe-premier.eventfinda.co.nz/2019/much-
 ado-about-nothing/auckland/ellerslie
DTSTAMP:20191220T054157Z
DTSTART:20191221T133000
DURATION:PT1H
GEO:-36.891100;174.802800
LOCATION:Anthony Harper Pop-up Globe Theatre: The Shakespeare Gardens\, Ell
 erslie Racecourse\, 80 Ascot Avenue\, Ellerslie
SUMMARY:Much Ado About Nothing
TRANSP:TRANSPARENT
UID:20191220T184157NZDT-vtZ7OUu1lM@www.eventfinda.co.nz
URL:https://popupglobe-premier.eventfinda.co.nz/2019/much-ado-about-nothing
 /auckland/ellerslie
END:VEVENT
END:VCALENDAR
